Package: AnVILPublish Version: 1.19.0 Command: rm -rf AnVILPublish.buildbin-libdir && mkdir AnVILPublish.buildbin-libdir && /Users/biocbuild/BBS/utils/build-universal.sh AnVILPublish_1.19.0.tar.gz /Library/Frameworks/R.framework/Resources/bin/R AnVILPublish.buildbin-libdir StartedAt: 2025-07-13 22:08:37 -0400 (Sun, 13 Jul 2025) EndedAt: 2025-07-13 22:08:40 -0400 (Sun, 13 Jul 2025) EllapsedTime: 3.1 seconds RetCode: 0 Status: OK PackageFile: AnVILPublish_1.19.0.tgz PackageFileSize: 259.4 KiB