Package: AnVILGCP Version: 1.3.8 Command: chmod a+r AnVILGCP -R && F:\biocbuild\bbs-3.22-bioc\R\bin\R.exe CMD build --keep-empty-dirs --no-resave-data AnVILGCP StartedAt: 2025-07-20 17:20:25 -0400 (Sun, 20 Jul 2025) EndedAt: 2025-07-20 17:21:07 -0400 (Sun, 20 Jul 2025) EllapsedTime: 42.1 seconds RetCode: 0 Status: OK PackageFile: AnVILGCP_1.3.8.tar.gz PackageFileSize: 415.1 KiB