Package: AnVILGCP Version: 1.3.8 Command: rm -rf AnVILGCP.buildbin-libdir && mkdir AnVILGCP.buildbin-libdir && F:\biocbuild\bbs-3.22-bioc\R\bin\R.exe CMD INSTALL --build --library=AnVILGCP.buildbin-libdir AnVILGCP_1.3.8.tar.gz StartedAt: 2025-07-21 08:31:39 -0400 (Mon, 21 Jul 2025) EndedAt: 2025-07-21 08:32:15 -0400 (Mon, 21 Jul 2025) EllapsedTime: 36.7 seconds RetCode: 0 Status: OK PackageFile: AnVILGCP_1.3.8.zip PackageFileSize: 465.7 KiB