Package: AnVILBilling Version: 1.19.0 Command: F:\biocbuild\bbs-3.22-bioc\R\bin\R.exe CMD check --no-multiarch --install=check:AnVILBilling.install-out.txt --library=F:\biocbuild\bbs-3.22-bioc\R\library --no-vignettes --timings AnVILBilling_1.19.0.tar.gz StartedAt: 2025-07-21 23:23:45 -0400 (Mon, 21 Jul 2025) EndedAt: 2025-07-21 23:25:03 -0400 (Mon, 21 Jul 2025) EllapsedTime: 77.7 seconds RetCode: 0 Status: OK CheckDir: AnVILBilling.Rcheck Warnings: 0