Package: AnVILBilling Version: 1.19.0 Command: /Library/Frameworks/R.framework/Resources/bin/R CMD INSTALL AnVILBilling StartedAt: 2025-07-17 15:10:01 -0400 (Thu, 17 Jul 2025) EndedAt: 2025-07-17 15:10:31 -0400 (Thu, 17 Jul 2025) EllapsedTime: 29.9 seconds RetCode: 0 Status: OK