Package: AnVILBilling Version: 1.19.0 Command: /Library/Frameworks/R.framework/Resources/bin/R CMD build --keep-empty-dirs --no-resave-data AnVILBilling StartedAt: 2025-07-17 15:59:09 -0400 (Thu, 17 Jul 2025) EndedAt: 2025-07-17 15:59:26 -0400 (Thu, 17 Jul 2025) EllapsedTime: 17.2 seconds RetCode: 0 Status: OK PackageFile: AnVILBilling_1.19.0.tar.gz PackageFileSize: 1.006 MiB