Package: AnVILBilling Version: 1.19.0 Command: rm -rf AnVILBilling.buildbin-libdir && mkdir AnVILBilling.buildbin-libdir && /Users/biocbuild/BBS/utils/build-universal.sh AnVILBilling_1.19.0.tar.gz /Library/Frameworks/R.framework/Resources/bin/R AnVILBilling.buildbin-libdir StartedAt: 2025-07-18 00:39:51 -0400 (Fri, 18 Jul 2025) EndedAt: 2025-07-18 00:40:05 -0400 (Fri, 18 Jul 2025) EllapsedTime: 14.1 seconds RetCode: 0 Status: OK PackageFile: AnVILBilling_1.19.0.tgz PackageFileSize: 743.7 KiB