Package: AnVILBase Version: 1.3.1 Command: chmod a+r AnVILBase -R && F:\biocbuild\bbs-3.22-bioc\R\bin\R.exe CMD build --keep-empty-dirs --no-resave-data AnVILBase StartedAt: 2025-06-29 17:21:39 -0400 (Sun, 29 Jun 2025) EndedAt: 2025-06-29 17:22:17 -0400 (Sun, 29 Jun 2025) EllapsedTime: 38.1 seconds RetCode: 0 Status: OK PackageFile: AnVILBase_1.3.1.tar.gz PackageFileSize: 227.8 KiB