Package: AnVILAz Version: 1.3.1 Command: /home/biocbuild/R/R/bin/R CMD INSTALL AnVILAz StartedAt: 2025-10-02 20:27:40 -0000 (Thu, 02 Oct 2025) EndedAt: 2025-10-02 20:27:53 -0000 (Thu, 02 Oct 2025) EllapsedTime: 13.0 seconds RetCode: 0 Status: OK