Package: AnVILAz Version: 1.3.1 Command: /home/biocbuild/R/R/bin/R CMD build --keep-empty-dirs --no-resave-data AnVILAz StartedAt: 2025-10-02 21:46:47 -0000 (Thu, 02 Oct 2025) EndedAt: 2025-10-02 21:46:57 -0000 (Thu, 02 Oct 2025) EllapsedTime: 10.0 seconds RetCode: 0 Status: OK PackageFile: AnVILAz_1.3.1.tar.gz PackageFileSize: 959.6 KiB