Package: AnVIL Version: 1.21.8 Command: /Library/Frameworks/R.framework/Resources/bin/R CMD check --install=check:AnVIL.install-out.txt --library=/Library/Frameworks/R.framework/Resources/library --no-vignettes --timings AnVIL_1.21.8.tar.gz StartedAt: 2025-07-21 19:03:17 -0400 (Mon, 21 Jul 2025) EndedAt: 2025-07-21 19:04:14 -0400 (Mon, 21 Jul 2025) EllapsedTime: 56.6 seconds RetCode: 0 Status: OK CheckDir: AnVIL.Rcheck Warnings: 0