Package: AnVIL Version: 1.21.8 Command: /Library/Frameworks/R.framework/Resources/bin/R CMD build --keep-empty-dirs --no-resave-data AnVIL StartedAt: 2025-07-20 16:06:47 -0400 (Sun, 20 Jul 2025) EndedAt: 2025-07-20 16:07:11 -0400 (Sun, 20 Jul 2025) EllapsedTime: 24.1 seconds RetCode: 0 Status: OK PackageFile: AnVIL_1.21.8.tar.gz PackageFileSize: 1.156 MiB