Package: AnVIL Version: 1.21.8 Command: rm -rf AnVIL.buildbin-libdir && mkdir AnVIL.buildbin-libdir && /Users/biocbuild/BBS/utils/build-universal.sh AnVIL_1.21.8.tar.gz /Library/Frameworks/R.framework/Resources/bin/R AnVIL.buildbin-libdir StartedAt: 2025-07-21 00:50:59 -0400 (Mon, 21 Jul 2025) EndedAt: 2025-07-21 00:51:09 -0400 (Mon, 21 Jul 2025) EllapsedTime: 10.4 seconds RetCode: 0 Status: OK PackageFile: AnVIL_1.21.8.tgz PackageFileSize: 1.019 MiB