Package: AlpsNMR Version: 4.11.1 Command: /Library/Frameworks/R.framework/Resources/bin/R CMD INSTALL AlpsNMR StartedAt: 2025-10-05 15:05:31 -0400 (Sun, 05 Oct 2025) EndedAt: 2025-10-05 15:05:38 -0400 (Sun, 05 Oct 2025) EllapsedTime: 7.0 seconds RetCode: 0 Status: OK