Package: AlpsNMR Version: 4.11.1 Command: /Library/Frameworks/R.framework/Resources/bin/R CMD check --install=check:AlpsNMR.install-out.txt --library=/Library/Frameworks/R.framework/Resources/library --no-vignettes --timings AlpsNMR_4.11.1.tar.gz StartedAt: 2025-10-05 18:15:30 -0400 (Sun, 05 Oct 2025) EndedAt: 2025-10-05 18:16:46 -0400 (Sun, 05 Oct 2025) EllapsedTime: 76.0 seconds RetCode: 0 Status: OK CheckDir: AlpsNMR.Rcheck Warnings: 0