Package: AlphaMissenseR Version: 1.5.1 Command: rm -rf AlphaMissenseR.buildbin-libdir && mkdir AlphaMissenseR.buildbin-libdir && /Users/biocbuild/BBS/utils/build-universal.sh AlphaMissenseR_1.5.1.tar.gz /Library/Frameworks/R.framework/Resources/bin/R AlphaMissenseR.buildbin-libdir StartedAt: 2025-06-26 22:08:06 -0400 (Thu, 26 Jun 2025) EndedAt: 2025-06-26 22:08:11 -0400 (Thu, 26 Jun 2025) EllapsedTime: 4.1 seconds RetCode: 0 Status: OK PackageFile: AlphaMissenseR_1.5.1.tgz PackageFileSize: 2.746 MiB