Package: AlphaBeta Version: 1.23.0 Command: /home/biocbuild/R/R/bin/R CMD check --install=check:AlphaBeta.install-out.txt --library=/home/biocbuild/R/R/site-library --no-vignettes --timings AlphaBeta_1.23.0.tar.gz StartedAt: 2025-10-07 04:16:08 -0000 (Tue, 07 Oct 2025) EndedAt: 2025-10-07 04:26:43 -0000 (Tue, 07 Oct 2025) EllapsedTime: 635.7 seconds RetCode: 0 Status: OK CheckDir: AlphaBeta.Rcheck Warnings: 0