Package: AllelicImbalance Version: 1.47.0 Command: /home/biocbuild/bbs-3.22-bioc/R/bin/R CMD INSTALL AllelicImbalance StartedAt: 2025-07-11 15:46:31 -0400 (Fri, 11 Jul 2025) EndedAt: 2025-07-11 15:47:25 -0400 (Fri, 11 Jul 2025) EllapsedTime: 53.5 seconds RetCode: 0 Status: OK