Package: AllelicImbalance Version: 1.47.0 Command: /Library/Frameworks/R.framework/Resources/bin/R CMD INSTALL AllelicImbalance StartedAt: 2025-07-20 15:52:45 -0400 (Sun, 20 Jul 2025) EndedAt: 2025-07-20 15:54:01 -0400 (Sun, 20 Jul 2025) EllapsedTime: 75.8 seconds RetCode: 0 Status: OK