Package: AllelicImbalance Version: 1.47.0 Command: /Library/Frameworks/R.framework/Resources/bin/R CMD check --install=check:AllelicImbalance.install-out.txt --library=/Library/Frameworks/R.framework/Resources/library --no-vignettes --timings AllelicImbalance_1.47.0.tar.gz StartedAt: 2025-07-21 18:01:06 -0400 (Mon, 21 Jul 2025) EndedAt: 2025-07-21 18:04:07 -0400 (Mon, 21 Jul 2025) EllapsedTime: 180.5 seconds RetCode: 0 Status: OK CheckDir: AllelicImbalance.Rcheck Warnings: 0