Package: AllelicImbalance Version: 1.47.0 Command: /Library/Frameworks/R.framework/Resources/bin/R CMD build --keep-empty-dirs --no-resave-data AllelicImbalance StartedAt: 2025-07-20 15:35:45 -0400 (Sun, 20 Jul 2025) EndedAt: 2025-07-20 15:36:42 -0400 (Sun, 20 Jul 2025) EllapsedTime: 57.6 seconds RetCode: 0 Status: OK PackageFile: AllelicImbalance_1.47.0.tar.gz PackageFileSize: 772.7 KiB