Package: AgiMicroRna Version: 2.59.0 Command: /home/biocbuild/R/R/bin/R CMD INSTALL AgiMicroRna StartedAt: 2025-07-21 21:24:07 -0000 (Mon, 21 Jul 2025) EndedAt: 2025-07-21 21:25:29 -0000 (Mon, 21 Jul 2025) EllapsedTime: 81.6 seconds RetCode: 0 Status: OK