Package: AgiMicroRna Version: 2.59.0 Command: /home/biocbuild/R/R/bin/R CMD build --keep-empty-dirs --no-resave-data AgiMicroRna StartedAt: 2025-07-21 21:42:03 -0000 (Mon, 21 Jul 2025) EndedAt: 2025-07-21 21:44:24 -0000 (Mon, 21 Jul 2025) EllapsedTime: 141.1 seconds RetCode: 0 Status: OK PackageFile: AgiMicroRna_2.59.0.tar.gz PackageFileSize: 3.061 MiB