Package: AffyRNADegradation Version: 1.55.0 Command: F:\biocbuild\bbs-3.22-bioc\R\bin\R.exe CMD INSTALL AffyRNADegradation StartedAt: 2025-07-21 15:36:16 -0400 (Mon, 21 Jul 2025) EndedAt: 2025-07-21 15:37:31 -0400 (Mon, 21 Jul 2025) EllapsedTime: 75.2 seconds RetCode: 0 Status: OK