Package: AffyRNADegradation Version: 1.55.0 Command: chmod a+r AffyRNADegradation -R && F:\biocbuild\bbs-3.22-bioc\R\bin\R.exe CMD build --keep-empty-dirs --no-resave-data AffyRNADegradation StartedAt: 2025-07-21 17:21:41 -0400 (Mon, 21 Jul 2025) EndedAt: 2025-07-21 17:23:50 -0400 (Mon, 21 Jul 2025) EllapsedTime: 129.5 seconds RetCode: 0 Status: OK PackageFile: AffyRNADegradation_1.55.0.tar.gz PackageFileSize: 273.9 KiB