Package: AffiXcan Version: 1.27.0 Command: rm -rf AffiXcan.buildbin-libdir && mkdir AffiXcan.buildbin-libdir && /Users/biocbuild/BBS/utils/build-universal.sh AffiXcan_1.27.0.tar.gz /Library/Frameworks/R.framework/Resources/bin/R AffiXcan.buildbin-libdir StartedAt: 2025-07-23 00:52:56 -0400 (Wed, 23 Jul 2025) EndedAt: 2025-07-23 00:53:33 -0400 (Wed, 23 Jul 2025) EllapsedTime: 36.9 seconds RetCode: 0 Status: OK PackageFile: AffiXcan_1.27.0.tgz PackageFileSize: 2.032 MiB