Package: AWFisher Version: 1.23.0 Command: /Library/Frameworks/R.framework/Resources/bin/R CMD INSTALL AWFisher StartedAt: 2025-07-01 15:20:26 -0400 (Tue, 01 Jul 2025) EndedAt: 2025-07-01 15:21:11 -0400 (Tue, 01 Jul 2025) EllapsedTime: 45.2 seconds RetCode: 0 Status: OK