Package: AWFisher Version: 1.23.0 Command: rm -rf AWFisher.buildbin-libdir && mkdir AWFisher.buildbin-libdir && /Users/biocbuild/BBS/utils/build-universal.sh AWFisher_1.23.0.tar.gz /Library/Frameworks/R.framework/Resources/bin/R AWFisher.buildbin-libdir StartedAt: 2025-07-02 00:46:10 -0400 (Wed, 02 Jul 2025) EndedAt: 2025-07-02 00:46:19 -0400 (Wed, 02 Jul 2025) EllapsedTime: 8.1 seconds RetCode: 0 Status: OK PackageFile: AWFisher_1.23.0.tgz PackageFileSize: 1.439 MiB