Package: AWFisher Version: 1.23.0 Command: /Library/Frameworks/R.framework/Resources/bin/R CMD INSTALL AWFisher StartedAt: 2025-07-20 15:03:47 -0400 (Sun, 20 Jul 2025) EndedAt: 2025-07-20 15:03:55 -0400 (Sun, 20 Jul 2025) EllapsedTime: 7.8 seconds RetCode: 0 Status: OK