Package: AWFisher Version: 1.23.0 Command: /Library/Frameworks/R.framework/Resources/bin/R CMD build --keep-empty-dirs --no-resave-data AWFisher StartedAt: 2025-07-20 15:38:37 -0400 (Sun, 20 Jul 2025) EndedAt: 2025-07-20 15:38:49 -0400 (Sun, 20 Jul 2025) EllapsedTime: 12.1 seconds RetCode: 0 Status: OK PackageFile: AWFisher_1.23.0.tar.gz PackageFileSize: 1.399 MiB