Package: AUCell Version: 1.31.0 Command: /home/biocbuild/R/R/bin/R CMD build --keep-empty-dirs --no-resave-data AUCell StartedAt: 2025-07-14 21:43:40 -0000 (Mon, 14 Jul 2025) EndedAt: 2025-07-14 21:46:27 -0000 (Mon, 14 Jul 2025) EllapsedTime: 167.0 seconds RetCode: 0 Status: OK PackageFile: AUCell_1.31.0.tar.gz PackageFileSize: 1.048 MiB