Package: AUCell Version: 1.31.0 Command: F:\biocbuild\bbs-3.22-bioc\R\bin\R.exe CMD INSTALL AUCell StartedAt: 2025-07-24 16:25:50 -0400 (Thu, 24 Jul 2025) EndedAt: 2025-07-24 16:26:40 -0400 (Thu, 24 Jul 2025) EllapsedTime: 50.5 seconds RetCode: 0 Status: OK