Package: AUCell Version: 1.31.0 Command: chmod a+r AUCell -R && F:\biocbuild\bbs-3.22-bioc\R\bin\R.exe CMD build --keep-empty-dirs --no-resave-data AUCell StartedAt: 2025-07-24 17:34:39 -0400 (Thu, 24 Jul 2025) EndedAt: 2025-07-24 17:37:19 -0400 (Thu, 24 Jul 2025) EllapsedTime: 160.3 seconds RetCode: 0 Status: OK PackageFile: AUCell_1.31.0.tar.gz PackageFileSize: 959 KiB