Package: AUCell Version: 1.31.0 Command: /Library/Frameworks/R.framework/Resources/bin/R CMD INSTALL AUCell StartedAt: 2025-07-11 15:24:40 -0400 (Fri, 11 Jul 2025) EndedAt: 2025-07-11 15:25:23 -0400 (Fri, 11 Jul 2025) EllapsedTime: 42.4 seconds RetCode: 0 Status: OK