Package: AUCell Version: 1.31.0 Command: /Library/Frameworks/R.framework/Resources/bin/R CMD build --keep-empty-dirs --no-resave-data AUCell StartedAt: 2025-07-11 16:05:17 -0400 (Fri, 11 Jul 2025) EndedAt: 2025-07-11 16:07:17 -0400 (Fri, 11 Jul 2025) EllapsedTime: 119.9 seconds RetCode: 0 Status: OK PackageFile: AUCell_1.31.0.tar.gz PackageFileSize: 2.409 MiB