Package: AUCell Version: 1.31.0 Command: /Library/Frameworks/R.framework/Resources/bin/R CMD build --keep-empty-dirs --no-resave-data AUCell StartedAt: 2025-07-20 15:38:34 -0400 (Sun, 20 Jul 2025) EndedAt: 2025-07-20 15:39:19 -0400 (Sun, 20 Jul 2025) EllapsedTime: 45.5 seconds RetCode: 0 Status: OK PackageFile: AUCell_1.31.0.tar.gz PackageFileSize: 2.414 MiB