Package: ATACseqTFEA Version: 1.11.0 Command: /home/biocbuild/R/R/bin/R CMD INSTALL ATACseqTFEA StartedAt: 2025-07-21 21:20:35 -0000 (Mon, 21 Jul 2025) EndedAt: 2025-07-21 21:21:28 -0000 (Mon, 21 Jul 2025) EllapsedTime: 52.9 seconds RetCode: 0 Status: OK