Package: ATACseqTFEA Version: 1.11.1 Command: F:\biocbuild\bbs-3.22-bioc\R\bin\R.exe CMD INSTALL ATACseqTFEA StartedAt: 2025-08-14 16:49:53 -0400 (Thu, 14 Aug 2025) EndedAt: 2025-08-14 16:50:56 -0400 (Thu, 14 Aug 2025) EllapsedTime: 63.5 seconds RetCode: 0 Status: OK