Package: ATACseqTFEA Version: 1.11.0 Command: /home/biocbuild/bbs-3.22-bioc/R/bin/R CMD INSTALL ATACseqTFEA StartedAt: 2025-07-01 15:50:52 -0400 (Tue, 01 Jul 2025) EndedAt: 2025-07-01 15:51:32 -0400 (Tue, 01 Jul 2025) EllapsedTime: 40.2 seconds RetCode: 0 Status: OK