Package: ATACseqTFEA Version: 1.11.0 Command: /home/biocbuild/bbs-3.22-bioc/R/bin/R CMD build --keep-empty-dirs --no-resave-data --md5 ATACseqTFEA StartedAt: 2025-07-01 16:09:25 -0400 (Tue, 01 Jul 2025) EndedAt: 2025-07-01 16:11:13 -0400 (Tue, 01 Jul 2025) EllapsedTime: 108.1 seconds RetCode: 0 Status: OK PackageFile: ATACseqTFEA_1.11.0.tar.gz PackageFileSize: 4.473 MiB