Package: ATACseqTFEA Version: 1.11.0 Command: /Library/Frameworks/R.framework/Resources/bin/R CMD INSTALL ATACseqTFEA StartedAt: 2025-07-01 15:54:05 -0400 (Tue, 01 Jul 2025) EndedAt: 2025-07-01 15:54:58 -0400 (Tue, 01 Jul 2025) EllapsedTime: 53.2 seconds RetCode: 0 Status: OK