Package: ATACseqTFEA Version: 1.11.0 Command: /Library/Frameworks/R.framework/Resources/bin/R CMD build --keep-empty-dirs --no-resave-data ATACseqTFEA StartedAt: 2025-07-01 16:10:29 -0400 (Tue, 01 Jul 2025) EndedAt: 2025-07-01 16:12:21 -0400 (Tue, 01 Jul 2025) EllapsedTime: 111.9 seconds RetCode: 0 Status: OK PackageFile: ATACseqTFEA_1.11.0.tar.gz PackageFileSize: 4.41 MiB