Package: ATACseqTFEA Version: 1.11.0 Command: /Library/Frameworks/R.framework/Resources/bin/R CMD INSTALL ATACseqTFEA StartedAt: 2025-07-11 15:26:18 -0400 (Fri, 11 Jul 2025) EndedAt: 2025-07-11 15:26:34 -0400 (Fri, 11 Jul 2025) EllapsedTime: 16.9 seconds RetCode: 0 Status: OK