Package: ATACseqQC Version: 1.33.1 Command: F:\biocbuild\bbs-3.22-bioc\R\bin\R.exe CMD INSTALL ATACseqQC StartedAt: 2025-07-01 16:43:24 -0400 (Tue, 01 Jul 2025) EndedAt: 2025-07-01 16:44:44 -0400 (Tue, 01 Jul 2025) EllapsedTime: 80.1 seconds RetCode: 0 Status: OK