Package: ATACseqQC Version: 1.33.1 Command: F:\biocbuild\bbs-3.22-bioc\R\bin\R.exe CMD check --no-multiarch --install=check:ATACseqQC.install-out.txt --library=F:\biocbuild\bbs-3.22-bioc\R\library --no-vignettes --timings ATACseqQC_1.33.1.tar.gz StartedAt: 2025-07-02 23:31:33 -0400 (Wed, 02 Jul 2025) EndedAt: 2025-07-02 23:45:07 -0400 (Wed, 02 Jul 2025) EllapsedTime: 813.8 seconds RetCode: 0 Status: OK CheckDir: ATACseqQC.Rcheck Warnings: 0