Package: ATACseqQC Version: 1.33.1 Command: rm -rf ATACseqQC.buildbin-libdir && mkdir ATACseqQC.buildbin-libdir && F:\biocbuild\bbs-3.22-bioc\R\bin\R.exe CMD INSTALL --build --library=ATACseqQC.buildbin-libdir ATACseqQC_1.33.1.tar.gz StartedAt: 2025-07-02 08:20:52 -0400 (Wed, 02 Jul 2025) EndedAt: 2025-07-02 08:22:16 -0400 (Wed, 02 Jul 2025) EllapsedTime: 84.2 seconds RetCode: 0 Status: OK PackageFile: ATACseqQC_1.33.1.zip PackageFileSize: 13.11 MiB