Package: ASpli Version: 2.19.0 Command: F:\biocbuild\bbs-3.22-bioc\R\bin\R.exe CMD INSTALL ASpli StartedAt: 2025-07-20 16:27:31 -0400 (Sun, 20 Jul 2025) EndedAt: 2025-07-20 16:29:42 -0400 (Sun, 20 Jul 2025) EllapsedTime: 131.0 seconds RetCode: 0 Status: OK