Package: ASpli Version: 2.19.0 Command: chmod a+r ASpli -R && F:\biocbuild\bbs-3.22-bioc\R\bin\R.exe CMD build --keep-empty-dirs --no-resave-data ASpli StartedAt: 2025-07-20 17:21:51 -0400 (Sun, 20 Jul 2025) EndedAt: 2025-07-20 17:25:59 -0400 (Sun, 20 Jul 2025) EllapsedTime: 248.5 seconds RetCode: 0 Status: OK PackageFile: ASpli_2.19.0.tar.gz PackageFileSize: 4.78 MiB