Package: ASpli Version: 2.19.0 Command: /Library/Frameworks/R.framework/Resources/bin/R CMD INSTALL ASpli StartedAt: 2025-07-01 15:53:36 -0400 (Tue, 01 Jul 2025) EndedAt: 2025-07-01 15:55:00 -0400 (Tue, 01 Jul 2025) EllapsedTime: 83.6 seconds RetCode: 0 Status: OK