Package: ASpli Version: 2.19.0 Command: /Library/Frameworks/R.framework/Resources/bin/R CMD check --install=check:ASpli.install-out.txt --library=/Library/Frameworks/R.framework/Resources/library --no-vignettes --timings ASpli_2.19.0.tar.gz StartedAt: 2025-07-01 19:13:39 -0400 (Tue, 01 Jul 2025) EndedAt: 2025-07-01 19:33:06 -0400 (Tue, 01 Jul 2025) EllapsedTime: 1166.6 seconds RetCode: 0 Status: WARNINGS CheckDir: ASpli.Rcheck Warnings: 1